BEGIN:VCALENDAR
VERSION:2.0
PRODID:-//Squarespace Inc/Squarespace 6//v6//EN
BEGIN:VEVENT
UID:5c00bacd2b6a2851f3383984@squarespace.com
DTSTAMP:20181204T092524Z
DTSTART:20190219T043000Z
DTEND:20190224T053000Z
SUMMARY:Cate Le Bon Plays Five New Zealand Shows in February\, 2019!
END:VEVENT
END:VCALENDAR
