BEGIN:VCALENDAR
VERSION:2.0
PRODID:-//Squarespace Inc/Squarespace 6//v6//EN
BEGIN:VEVENT
UID:5c0645f54fa51a5fb805e4a5@squarespace.com
DTSTAMP:20181204T092942Z
DTSTART:20190112T020000Z
DTEND:20190112T030000Z
SUMMARY:Bic Runga with Lawrence Arabia: A Waiheke Evening at Goldie Estate
END:VEVENT
END:VCALENDAR
