BEGIN:VCALENDAR
VERSION:2.0
PRODID:-//Squarespace Inc/Squarespace 6//v6//EN
BEGIN:VEVENT
UID:5c57c608eb393170e1cfec9f@squarespace.com
DTSTAMP:20190204T094757Z
DTSTART:20190227T063000Z
DTEND:20190228T105959Z
SUMMARY:Hamerkop (Annabel Alpers\, Ex-Bachelorette) Performs two space pop 
 shows in surround sound
END:VEVENT
END:VCALENDAR
